BEGIN:VCALENDAR
VERSION:2.0
PRODID:-//Intand Corporation//Tandem//EN
METHOD:PUBLISH
BEGIN:VEVENT
DTSTAMP:20260421T081450Z
DTSTART:20121215T160000Z
DTEND:20121215T180000Z
TRANSP:TRANSPARENT
PRIORITY:0
SUMMARY:Westlake High School Wrestling Varsity vs Triangular
LOCATION:WHS Main Gym
DESCRIPTION:Groups:\nWestlake High School Wrestling Varsity (Neutral)\n\nS
 chools:\nWestlake High School (Home)\n\nLocation:\nWHS Main Gym\n\n
URL;VALUE=URI:https://westlake.tandem.co/index.php?type=view&action=event&
 id=9740517
CREATED:20120418T151307Z
LAST-MODIFIED:20120425T171018Z
UID:event-9740517-westlake@intand.com
END:VEVENT
END:VCALENDAR
