BEGIN:VCALENDAR
VERSION:2.0
PRODID:-//Intand Corporation//Tandem//EN
METHOD:PUBLISH
BEGIN:VEVENT
DTSTAMP:20260419T083306Z
DTSTART;VALUE=DATE:20151030
DTEND;VALUE=DATE:20151031
TRANSP:TRANSPARENT
PRIORITY:0
SUMMARY:OGT
LOCATION:Westlake High School
DESCRIPTION:Schools:\nWestlake High School\n\nLocation:\nWestlake High Sch
 ool\n\n
URL;VALUE=URI:https://westlake.tandem.co/index.php?type=view&action=event&
 id=18370414
CREATED:20150511T180658Z
LAST-MODIFIED:20150511T180658Z
UID:event-18370414-westlake@intand.com
END:VEVENT
END:VCALENDAR
