BEGIN:VCALENDAR
VERSION:2.0
PRODID:-//Intand Corporation//Tandem//EN
METHOD:PUBLISH
BEGIN:VEVENT
DTSTAMP:20260419T123025Z
DTSTART:20160422T110000Z
DTEND:20160423T035959Z
TRANSP:TRANSPARENT
PRIORITY:0
SUMMARY:WHS State OMEA Contest 
LOCATION:Westlake Schools Performing Arts Center\, Westlake High School\, 
 Performing Arts Center Lobby\, Performing Arts Center Multipurpose Room\, 
 Performing Arts Center
DESCRIPTION:Breakdown: TBD\n\nReturn: TBD\n\nGroups:\nWestlake High School
  Band\nWestlake High School Choir\n\nSchools:\nWestlake High School\nWestl
 ake Schools Performing Arts Center\n\nLocations:\nWestlake Schools Perform
 ing Arts Center\nWestlake High School\nPerforming Arts Center Lobby\nPerfo
 rming Arts Center Multipurpose Room\nPerforming Arts Center\n\nBuilding Us
 e Rec'd 3/2/15\n\nHilary Patriok\n\n
URL;VALUE=URI:https://westlake.tandem.co/index.php?type=view&action=event&
 id=18303999
CREATED:20150311T154925Z
LAST-MODIFIED:20150608T174420Z
UID:event-18303999-westlake@intand.com
END:VEVENT
END:VCALENDAR
