BEGIN:VCALENDAR
VERSION:2.0
PRODID:-//Intand Corporation//Tandem//EN
METHOD:PUBLISH
BEGIN:VEVENT
DTSTAMP:20260421T081733Z
DTSTART:20130420T180000Z
DTEND:20130420T200000Z
TRANSP:TRANSPARENT
PRIORITY:0
SUMMARY:Westlake High School Softball Girls JV vs Columbia HS (Kick it for
  the Cure Demon Classic @ Clague Park)
LOCATION:WHS Ball Fields
DESCRIPTION:Groups:\nWestlake High School Softball Girls JV (Neutral)\n\nS
 chools:\nWestlake High School (Home)\n\nLocation:\nWHS Ball Fields\n\n
URL;VALUE=URI:https://westlake.tandem.co/index.php?type=view&action=event&
 id=11542589
CREATED:20130415T180114Z
LAST-MODIFIED:20130415T180114Z
UID:event-11542589-westlake@intand.com
END:VEVENT
END:VCALENDAR
